BEGIN:VCALENDAR
VERSION:2.0
PRODID:-//HDMCC - ECPv6.15.18//NONSGML v1.0//EN
CALSCALE:GREGORIAN
METHOD:PUBLISH
X-ORIGINAL-URL:https://www.hdmcc.com
X-WR-CALDESC:Events for HDMCC
REFRESH-INTERVAL;VALUE=DURATION:PT1H
X-Robots-Tag:noindex
X-PUBLISHED-TTL:PT1H
BEGIN:VTIMEZONE
TZID:Europe/London
BEGIN:DAYLIGHT
TZOFFSETFROM:+0000
TZOFFSETTO:+0100
TZNAME:BST
DTSTART:20250330T010000
END:DAYLIGHT
BEGIN:STANDARD
TZOFFSETFROM:+0100
TZOFFSETTO:+0000
TZNAME:GMT
DTSTART:20251026T010000
END:STANDARD
BEGIN:DAYLIGHT
TZOFFSETFROM:+0000
TZOFFSETTO:+0100
TZNAME:BST
DTSTART:20260329T010000
END:DAYLIGHT
BEGIN:STANDARD
TZOFFSETFROM:+0100
TZOFFSETTO:+0000
TZNAME:GMT
DTSTART:20261025T010000
END:STANDARD
BEGIN:DAYLIGHT
TZOFFSETFROM:+0000
TZOFFSETTO:+0100
TZNAME:BST
DTSTART:20270328T010000
END:DAYLIGHT
BEGIN:STANDARD
TZOFFSETFROM:+0100
TZOFFSETTO:+0000
TZNAME:GMT
DTSTART:20271031T010000
END:STANDARD
END:VTIMEZONE
BEGIN:VEVENT
DTSTART;TZID=Europe/London:20260208T103000
DTEND;TZID=Europe/London:20260208T130000
DTSTAMP:20260424T033738
CREATED:20260209T112840Z
LAST-MODIFIED:20260209T112904Z
UID:247-1770546600-1770555600@www.hdmcc.com
SUMMARY:MAG Fred Hill Run
DESCRIPTION:
URL:https://www.hdmcc.com/event/mag-fred-hill-run/
LOCATION:Durham Ox\, Beverley\, 48 Norwood\, Beverley\, HU17 9HJ\, United Kingdom
CATEGORIES:Ride Outs
END:VEVENT
BEGIN:VEVENT
DTSTART;TZID=Europe/London:20260222T093000
DTEND;TZID=Europe/London:20260222T170000
DTSTAMP:20260424T033738
CREATED:20260222T100235Z
LAST-MODIFIED:20260222T100235Z
UID:256-1771752600-1771779600@www.hdmcc.com
SUMMARY:Beverley Rally Stages
DESCRIPTION:
URL:https://www.hdmcc.com/event/beverley-rally-stages/
LOCATION:McDonalds Kingswood\, Kingswood Retail Park\, Bude Rd\, Hull\, East Yorkshire\, HU7 4HS\, United Kingdom
CATEGORIES:Ride Outs,Things We're Visiting
END:VEVENT
END:VCALENDAR