BEGIN:VCALENDAR
VERSION:2.0
PRODID:-//HDMCC - ECPv6.15.18//NONSGML v1.0//EN
CALSCALE:GREGORIAN
METHOD:PUBLISH
X-WR-CALNAME:HDMCC
X-ORIGINAL-URL:https://www.hdmcc.com
X-WR-CALDESC:Events for HDMCC
REFRESH-INTERVAL;VALUE=DURATION:PT1H
X-Robots-Tag:noindex
X-PUBLISHED-TTL:PT1H
BEGIN:VTIMEZONE
TZID:Europe/London
BEGIN:DAYLIGHT
TZOFFSETFROM:+0000
TZOFFSETTO:+0100
TZNAME:BST
DTSTART:20250330T010000
END:DAYLIGHT
BEGIN:STANDARD
TZOFFSETFROM:+0100
TZOFFSETTO:+0000
TZNAME:GMT
DTSTART:20251026T010000
END:STANDARD
BEGIN:DAYLIGHT
TZOFFSETFROM:+0000
TZOFFSETTO:+0100
TZNAME:BST
DTSTART:20260329T010000
END:DAYLIGHT
BEGIN:STANDARD
TZOFFSETFROM:+0100
TZOFFSETTO:+0000
TZNAME:GMT
DTSTART:20261025T010000
END:STANDARD
BEGIN:DAYLIGHT
TZOFFSETFROM:+0000
TZOFFSETTO:+0100
TZNAME:BST
DTSTART:20270328T010000
END:DAYLIGHT
BEGIN:STANDARD
TZOFFSETFROM:+0100
TZOFFSETTO:+0000
TZNAME:GMT
DTSTART:20271031T010000
END:STANDARD
END:VTIMEZONE
BEGIN:VEVENT
DTSTART;TZID=Europe/London:20260329T100000
DTEND;TZID=Europe/London:20260329T170000
DTSTAMP:20260423T190531
CREATED:20260325T090948Z
LAST-MODIFIED:20260325T090948Z
UID:270-1774778400-1774803600@www.hdmcc.com
SUMMARY:Ride to Monkey Pot Cafe and Percy Arms
DESCRIPTION:Meeting before 10AM at B&Q St Andrews Quay to leave at 10AM
URL:https://www.hdmcc.com/event/ride-to-monkey-pot-cafe-and-percy-arms/
LOCATION:Outside B&Q St Andrews Quay\, St Andrews Quay Retail Park\, Clive Sullivan Way\, Hull\, HU3 4SA
CATEGORIES:Ride Outs
END:VEVENT
BEGIN:VEVENT
DTSTART;TZID=Europe/London:20260322T100000
DTEND;TZID=Europe/London:20260322T160000
DTSTAMP:20260423T190531
CREATED:20260322T091652Z
LAST-MODIFIED:20260322T091652Z
UID:268-1774173600-1774195200@www.hdmcc.com
SUMMARY:Ride to Drax & Reedness
DESCRIPTION:A casual ride around the area of Drax and Reedness\, no exact defined route. As ususal\, no motorways (Learner friendly route)
URL:https://www.hdmcc.com/event/ride-to-drax-reedness/
LOCATION:Outside B&Q St Andrews Quay\, St Andrews Quay Retail Park\, Clive Sullivan Way\, Hull\, HU3 4SA
CATEGORIES:Ride Outs
END:VEVENT
BEGIN:VEVENT
DTSTART;TZID=Europe/London:20260315T100000
DTEND;TZID=Europe/London:20260315T170000
DTSTAMP:20260423T190531
CREATED:20260310T212126Z
LAST-MODIFIED:20260310T212126Z
UID:263-1773568800-1773594000@www.hdmcc.com
SUMMARY:Ride to Syke Houses
DESCRIPTION:Social ride to Wheels cafe at Syke Houses
URL:https://www.hdmcc.com/event/ride-to-syke-houses/
LOCATION:McDonald’s St Andrews Quay\, St Andrews Quay Retail Park\, Clive Sullivan Way\, Hull\, HU34SA
CATEGORIES:Ride Outs
ORGANIZER;CN="HDMCC":MAILTO:secretary@hdmcc.com
END:VEVENT
BEGIN:VEVENT
DTSTART;TZID=Europe/London:20260222T093000
DTEND;TZID=Europe/London:20260222T170000
DTSTAMP:20260423T190531
CREATED:20260222T100235Z
LAST-MODIFIED:20260222T100235Z
UID:256-1771752600-1771779600@www.hdmcc.com
SUMMARY:Beverley Rally Stages
DESCRIPTION:
URL:https://www.hdmcc.com/event/beverley-rally-stages/
LOCATION:McDonalds Kingswood\, Kingswood Retail Park\, Bude Rd\, Hull\, East Yorkshire\, HU7 4HS\, United Kingdom
CATEGORIES:Ride Outs,Things We're Visiting
END:VEVENT
BEGIN:VEVENT
DTSTART;TZID=Europe/London:20260213T100000
DTEND;TZID=Europe/London:20260215T170000
DTSTAMP:20260423T190531
CREATED:20260119T182033Z
LAST-MODIFIED:20260119T182033Z
UID:226-1770976800-1771174800@www.hdmcc.com
SUMMARY:Mad Axeman Rally
DESCRIPTION:For those coming\, we will meet at McDonalds Kingswood\, time to be agreed
URL:https://www.hdmcc.com/event/mad-axeman-rally/
LOCATION:McDonalds Kingswood\, Kingswood Retail Park\, Bude Rd\, Hull\, East Yorkshire\, HU7 4HS\, United Kingdom
CATEGORIES:Things We're Visiting
ORGANIZER;CN="HDMCC":MAILTO:secretary@hdmcc.com
END:VEVENT
BEGIN:VEVENT
DTSTART;TZID=Europe/London:20260208T103000
DTEND;TZID=Europe/London:20260208T130000
DTSTAMP:20260423T190531
CREATED:20260209T112840Z
LAST-MODIFIED:20260209T112904Z
UID:247-1770546600-1770555600@www.hdmcc.com
SUMMARY:MAG Fred Hill Run
DESCRIPTION:
URL:https://www.hdmcc.com/event/mag-fred-hill-run/
LOCATION:Durham Ox\, Beverley\, 48 Norwood\, Beverley\, HU17 9HJ\, United Kingdom
CATEGORIES:Ride Outs
END:VEVENT
BEGIN:VEVENT
DTSTART;TZID=Europe/London:20260207T120000
DTEND;TZID=Europe/London:20260208T120000
DTSTAMP:20260423T190531
CREATED:20260130T194437Z
LAST-MODIFIED:20260130T194437Z
UID:235-1770465600-1770552000@www.hdmcc.com
SUMMARY:Dragon Rally
DESCRIPTION:We’re visiting the Conwy MCC Dragon Rally 2026
URL:https://www.hdmcc.com/event/dragon-rally/
CATEGORIES:Things We're Visiting
END:VEVENT
BEGIN:VEVENT
DTSTART;TZID=Europe/London:20260102T160000
DTEND;TZID=Europe/London:20260104T100000
DTSTAMP:20260423T190531
CREATED:20260119T180202Z
LAST-MODIFIED:20260119T180202Z
UID:216-1767369600-1767520800@www.hdmcc.com
SUMMARY:HDMCC New Years Social Weekend at the Plough
DESCRIPTION:Join us on the 2nd/3rd January to celebrate the new year together! \nCamping is available as well as rooms in the pub. There will be food available.
URL:https://www.hdmcc.com/event/hdmcc-new-years-social-weekend-at-the-plough/
LOCATION:The Plough\, Hollym\, Northside Rd\, Hollym\, Withernsea\, HU19 2RS
CATEGORIES:Club Social Events
ORGANIZER;CN="HDMCC":MAILTO:secretary@hdmcc.com
END:VEVENT
BEGIN:VEVENT
DTSTART;TZID=Europe/London:20260101T100000
DTEND;TZID=Europe/London:20260101T170000
DTSTAMP:20260423T190531
CREATED:20260119T175742Z
LAST-MODIFIED:20260119T175742Z
UID:211-1767261600-1767286800@www.hdmcc.com
SUMMARY:New Years Day Rideout
DESCRIPTION:Join us on new years day for a ride out\, we will meet at McDonalds Kingswood for 10AM
URL:https://www.hdmcc.com/event/new-years-day-rideout/
LOCATION:McDonalds Kingswood\, Kingswood Retail Park\, Bude Rd\, Hull\, East Yorkshire\, HU7 4HS\, United Kingdom
CATEGORIES:Ride Outs
ORGANIZER;CN="HDMCC":MAILTO:secretary@hdmcc.com
END:VEVENT
END:VCALENDAR